BEGIN:VCALENDAR
VERSION:2.0
PRODID:-//西山猛郎 Official Site - ECPv6.6.0.2//NONSGML v1.0//EN
CALSCALE:GREGORIAN
METHOD:PUBLISH
X-ORIGINAL-URL:https://nishiyamatakeo.com
X-WR-CALDESC:西山猛郎 Official Site のイベント
REFRESH-INTERVAL;VALUE=DURATION:PT1H
X-Robots-Tag:noindex
X-PUBLISHED-TTL:PT1H
BEGIN:VTIMEZONE
TZID:Asia/Tokyo
BEGIN:STANDARD
TZOFFSETFROM:+0900
TZOFFSETTO:+0900
TZNAME:JST
DTSTART:20250101T000000
END:STANDARD
END:VTIMEZONE
BEGIN:VEVENT
DTSTART;TZID=Asia/Tokyo:20250209T120000
DTEND;TZID=Asia/Tokyo:20250209T150000
DTSTAMP:20260421T202218
CREATED:20241227T084510Z
LAST-MODIFIED:20241227T084511Z
UID:1177-1739102400-1739113200@nishiyamatakeo.com
SUMMARY:丈夫塾
DESCRIPTION:筑紫野市農業者トレーニングセンターサブアリーナ
URL:https://nishiyamatakeo.com/event/%e4%b8%88%e5%a4%ab%e5%a1%be-3/
CATEGORIES:丈夫塾
END:VEVENT
BEGIN:VEVENT
DTSTART;TZID=Asia/Tokyo:20250209T150000
DTEND;TZID=Asia/Tokyo:20250209T170000
DTSTAMP:20260421T202218
CREATED:20241227T090428Z
LAST-MODIFIED:20241227T090429Z
UID:1217-1739113200-1739120400@nishiyamatakeo.com
SUMMARY:錬成塾
DESCRIPTION:筑紫野市農業者トレーニングセンターサブアリーナ
URL:https://nishiyamatakeo.com/event/%e9%8c%ac%e6%88%90%e5%a1%be-13/
CATEGORIES:錬成会/錬成塾
END:VEVENT
END:VCALENDAR