BEGIN:VCALENDAR
VERSION:2.0
PRODID:-//西山猛郎 Official Site - ECPv6.6.0.2//NONSGML v1.0//EN
CALSCALE:GREGORIAN
METHOD:PUBLISH
X-ORIGINAL-URL:https://nishiyamatakeo.com
X-WR-CALDESC:西山猛郎 Official Site のイベント
REFRESH-INTERVAL;VALUE=DURATION:PT1H
X-Robots-Tag:noindex
X-PUBLISHED-TTL:PT1H
BEGIN:VTIMEZONE
TZID:Asia/Tokyo
BEGIN:STANDARD
TZOFFSETFROM:+0900
TZOFFSETTO:+0900
TZNAME:JST
DTSTART:20240101T000000
END:STANDARD
END:VTIMEZONE
BEGIN:VEVENT
DTSTART;TZID=Asia/Tokyo:20241205T113000
DTEND;TZID=Asia/Tokyo:20241205T143000
DTSTAMP:20260422T002221
CREATED:20240828T070507Z
LAST-MODIFIED:20240927T100435Z
UID:989-1733398200-1733409000@nishiyamatakeo.com
SUMMARY:錬成会
DESCRIPTION:大宰府とびうめアリーナ武道場
URL:https://nishiyamatakeo.com/event/%e9%8c%ac%e6%88%90%e4%bc%9a-16/
CATEGORIES:錬成会/錬成塾
END:VEVENT
END:VCALENDAR