BEGIN:VCALENDAR
VERSION:2.0
PRODID:-//西山猛郎 Official Site - ECPv6.6.0.2//NONSGML v1.0//EN
CALSCALE:GREGORIAN
METHOD:PUBLISH
X-ORIGINAL-URL:https://nishiyamatakeo.com
X-WR-CALDESC:西山猛郎 Official Site のイベント
REFRESH-INTERVAL;VALUE=DURATION:PT1H
X-Robots-Tag:noindex
X-PUBLISHED-TTL:PT1H
BEGIN:VTIMEZONE
TZID:Asia/Tokyo
BEGIN:STANDARD
TZOFFSETFROM:+0900
TZOFFSETTO:+0900
TZNAME:JST
DTSTART:20240101T000000
END:STANDARD
END:VTIMEZONE
BEGIN:VEVENT
DTSTART;TZID=Asia/Tokyo:20240810T160000
DTEND;TZID=Asia/Tokyo:20240810T180000
DTSTAMP:20260422T043550
CREATED:20240731T225111Z
LAST-MODIFIED:20240731T225113Z
UID:922-1723305600-1723312800@nishiyamatakeo.com
SUMMARY:企業研修
DESCRIPTION:熊本市内
URL:https://nishiyamatakeo.com/event/%e4%bc%81%e6%a5%ad%e7%a0%94%e4%bf%ae/
END:VEVENT
END:VCALENDAR