BEGIN:VCALENDAR
VERSION:2.0
PRODID:-//西山猛郎 Official Site - ECPv6.6.0.2//NONSGML v1.0//EN
CALSCALE:GREGORIAN
METHOD:PUBLISH
X-WR-CALNAME:西山猛郎 Official Site
X-ORIGINAL-URL:https://nishiyamatakeo.com
X-WR-CALDESC:西山猛郎 Official Site のイベント
REFRESH-INTERVAL;VALUE=DURATION:PT1H
X-Robots-Tag:noindex
X-PUBLISHED-TTL:PT1H
BEGIN:VTIMEZONE
TZID:Asia/Tokyo
BEGIN:STANDARD
TZOFFSETFROM:+0900
TZOFFSETTO:+0900
TZNAME:JST
DTSTART:20240101T000000
END:STANDARD
END:VTIMEZONE
BEGIN:VEVENT
DTSTART;TZID=Asia/Tokyo:20240519T133000
DTEND;TZID=Asia/Tokyo:20240519T173000
DTSTAMP:20260422T085054
CREATED:20240423T123034Z
LAST-MODIFIED:20240423T123035Z
UID:661-1716125400-1716139800@nishiyamatakeo.com
SUMMARY:丈夫塾＠小郡市
DESCRIPTION:
URL:https://nishiyamatakeo.com/event/%e4%b8%88%e5%a4%ab%e5%a1%be%ef%bc%a0%e5%b0%8f%e9%83%a1%e5%b8%82/
END:VEVENT
END:VCALENDAR