BEGIN:VCALENDAR
VERSION:2.0
PRODID:-//西山猛郎 Official Site - ECPv6.6.0.2//NONSGML v1.0//EN
CALSCALE:GREGORIAN
METHOD:PUBLISH
X-WR-CALNAME:西山猛郎 Official Site
X-ORIGINAL-URL:https://nishiyamatakeo.com
X-WR-CALDESC:西山猛郎 Official Site のイベント
REFRESH-INTERVAL;VALUE=DURATION:PT1H
X-Robots-Tag:noindex
X-PUBLISHED-TTL:PT1H
BEGIN:VTIMEZONE
TZID:Asia/Tokyo
BEGIN:STANDARD
TZOFFSETFROM:+0900
TZOFFSETTO:+0900
TZNAME:JST
DTSTART:20240101T000000
END:STANDARD
END:VTIMEZONE
BEGIN:VEVENT
DTSTART;TZID=Asia/Tokyo:20240512T133000
DTEND;TZID=Asia/Tokyo:20240512T163000
DTSTAMP:20260422T101423
CREATED:20240503T112447Z
LAST-MODIFIED:20240503T112530Z
UID:677-1715520600-1715531400@nishiyamatakeo.com
SUMMARY:結び塾＠東京
DESCRIPTION:
URL:https://nishiyamatakeo.com/event/%e7%b5%90%e3%81%b3%e5%a1%be%ef%bc%a0%e6%9d%b1%e4%ba%ac/
END:VEVENT
END:VCALENDAR