BEGIN:VCALENDAR
VERSION:2.0
PRODID:-//西山猛郎 Official Site - ECPv6.6.0.2//NONSGML v1.0//EN
CALSCALE:GREGORIAN
METHOD:PUBLISH
X-WR-CALNAME:西山猛郎 Official Site
X-ORIGINAL-URL:https://nishiyamatakeo.com
X-WR-CALDESC:西山猛郎 Official Site のイベント
REFRESH-INTERVAL;VALUE=DURATION:PT1H
X-Robots-Tag:noindex
X-PUBLISHED-TTL:PT1H
BEGIN:VTIMEZONE
TZID:Asia/Tokyo
BEGIN:STANDARD
TZOFFSETFROM:+0900
TZOFFSETTO:+0900
TZNAME:JST
DTSTART:20240101T000000
END:STANDARD
END:VTIMEZONE
BEGIN:VEVENT
DTSTART;TZID=Asia/Tokyo:20240509T120000
DTEND;TZID=Asia/Tokyo:20240509T160000
DTSTAMP:20260422T101423
CREATED:20240503T114338Z
LAST-MODIFIED:20240503T114338Z
UID:700-1715256000-1715270400@nishiyamatakeo.com
SUMMARY:錬成会＠小郡市
DESCRIPTION:
URL:https://nishiyamatakeo.com/event/%e9%8c%ac%e6%88%90%e4%bc%9a%ef%bc%a0%e5%b0%8f%e9%83%a1%e5%b8%82-3/
END:VEVENT
END:VCALENDAR