BEGIN:VCALENDAR
VERSION:2.0
PRODID:-//西山猛郎 Official Site - ECPv6.6.0.2//NONSGML v1.0//EN
CALSCALE:GREGORIAN
METHOD:PUBLISH
X-ORIGINAL-URL:https://nishiyamatakeo.com
X-WR-CALDESC:西山猛郎 Official Site のイベント
REFRESH-INTERVAL;VALUE=DURATION:PT1H
X-Robots-Tag:noindex
X-PUBLISHED-TTL:PT1H
BEGIN:VTIMEZONE
TZID:Asia/Tokyo
BEGIN:STANDARD
TZOFFSETFROM:+0900
TZOFFSETTO:+0900
TZNAME:JST
DTSTART:20240101T000000
END:STANDARD
END:VTIMEZONE
BEGIN:VEVENT
DTSTART;TZID=Asia/Tokyo:20240422T120000
DTEND;TZID=Asia/Tokyo:20240422T150000
DTSTAMP:20260422T101422
CREATED:20240322T113355Z
LAST-MODIFIED:20240414T003950Z
UID:315-1713787200-1713798000@nishiyamatakeo.com
SUMMARY:丈夫塾＠筑紫野市
DESCRIPTION:
URL:https://nishiyamatakeo.com/event/%e8%a5%bf%e5%b1%b1%e4%b8%88%e5%a4%ab%e5%a1%be%ef%bc%a0%e7%ad%91%e7%b4%ab%e9%87%8e%e5%b8%82/
CATEGORIES:丈夫塾
END:VEVENT
END:VCALENDAR