BEGIN:VCALENDAR
VERSION:2.0
PRODID:-//西山猛郎 Official Site - ECPv6.6.0.2//NONSGML v1.0//EN
CALSCALE:GREGORIAN
METHOD:PUBLISH
X-WR-CALNAME:西山猛郎 Official Site
X-ORIGINAL-URL:https://nishiyamatakeo.com
X-WR-CALDESC:西山猛郎 Official Site のイベント
REFRESH-INTERVAL;VALUE=DURATION:PT1H
X-Robots-Tag:noindex
X-PUBLISHED-TTL:PT1H
BEGIN:VTIMEZONE
TZID:Asia/Tokyo
BEGIN:STANDARD
TZOFFSETFROM:+0900
TZOFFSETTO:+0900
TZNAME:JST
DTSTART:20240101T000000
END:STANDARD
END:VTIMEZONE
BEGIN:VEVENT
DTSTART;TZID=Asia/Tokyo:20240416T000000
DTEND;TZID=Asia/Tokyo:20240416T235959
DTSTAMP:20260422T101426
CREATED:20240408T125859Z
LAST-MODIFIED:20240408T125859Z
UID:615-1713225600-1713311999@nishiyamatakeo.com
SUMMARY:企業研修＠東京都内
DESCRIPTION:
URL:https://nishiyamatakeo.com/event/%e4%bc%81%e6%a5%ad%e7%a0%94%e4%bf%ae%ef%bc%a0%e6%9d%b1%e4%ba%ac%e9%83%bd%e5%86%85/
END:VEVENT
END:VCALENDAR