BEGIN:VCALENDAR
VERSION:2.0
PRODID:-//西山猛郎 Official Site - ECPv6.6.0.2//NONSGML v1.0//EN
CALSCALE:GREGORIAN
METHOD:PUBLISH
X-WR-CALNAME:西山猛郎 Official Site
X-ORIGINAL-URL:https://nishiyamatakeo.com
X-WR-CALDESC:西山猛郎 Official Site のイベント
REFRESH-INTERVAL;VALUE=DURATION:PT1H
X-Robots-Tag:noindex
X-PUBLISHED-TTL:PT1H
BEGIN:VTIMEZONE
TZID:Asia/Tokyo
BEGIN:STANDARD
TZOFFSETFROM:+0900
TZOFFSETTO:+0900
TZNAME:JST
DTSTART:20240101T000000
END:STANDARD
END:VTIMEZONE
BEGIN:VEVENT
DTSTART;TZID=Asia/Tokyo:20240409T100000
DTEND;TZID=Asia/Tokyo:20240409T130000
DTSTAMP:20260422T101424
CREATED:20240408T130203Z
LAST-MODIFIED:20240408T130203Z
UID:617-1712656800-1712667600@nishiyamatakeo.com
SUMMARY:結び塾＠筑紫野市
DESCRIPTION:西山猛郎先生による「結び(産靈)塾」 \n\n\n\n西山先生の合氣は「武」よりも日常生活に生かすための「道」に重きを置いた武道です。子育てをしながらこれからの時代を生きるためのヒントがたくさん詰まっています。 \n\n\n\n●対立ではなく結びの感覚●自分軸の立て方●意識と身体の使い方 \n\n\n\nをワークを通して体感していきます。 \n\n\n\n子育て、家族関係、お仕事に、日常生活の中ですぐに役立つ技ばかり！ \n\n\n\n本来、日本人は昔からこの「氣」を上手に使いこなして調和の世界を作る事が得意だった民族。忘れかけていたその感覚を思い出し、身体と意識が変わっていくことで現実の変化のスピードが速くなります！ \n\n\n\n誰もが持っている本来の自分の力に氣づき、自分軸で宇宙と繋がる生き方を体感してみませんか。 \n\n\n\nあらゆる世代の方に聞いていただきたい内容です！ \n\n\n\n＊＊＊＊＊＊＊＊＊＊＊＊＊＊＊＊＊＊＊ \n\n\n\n日時　4/9（火）10:00〜13:00（9:30開場　9:40受付開始） \n\n\n\n会場　願応寺　　　筑紫野市山口843 \n\n\n\n参加費　3500円 \n\n\n\n講習会後に手作りランチ（500円）をご用意できます。申し込み時にランチの有無をお知らせください。 \n\n\n\n申し込みは参加ボタンを押された上で「wonder forest」までメッセージください。 \n\n\n\n※動きやすい服装でご参加ください。 \n\n\n\n※水分補給のため飲み物をご持参ください。ワークでも使うことがあります。 \n\n\n\n※非日常の中で自分と向き合う時間を作るため、お子様の参加はご遠慮いただいてます。※託児が必要な場合は、３日前までにお知らせください。お一人2000円にて受付可能です。
URL:https://nishiyamatakeo.com/event/%e7%b5%90%e3%81%b3%e5%a1%be%ef%bc%a0%e7%ad%91%e7%b4%ab%e9%87%8e%e5%b8%82/
END:VEVENT
BEGIN:VEVENT
DTSTART;TZID=Asia/Tokyo:20240409T140000
DTEND;TZID=Asia/Tokyo:20240409T160000
DTSTAMP:20260422T101424
CREATED:20240408T133048Z
LAST-MODIFIED:20240408T133209Z
UID:629-1712671200-1712678400@nishiyamatakeo.com
SUMMARY:陽氣塾＠筑紫野市
DESCRIPTION:笑顔いっぱいの陽氣塾 \n\n\n\n\n\n\n\n合氣道…やってみたいけど敷居が高そうと思っている方…そんなビギナーの方にピッタリな講座です \n\n\n\n\n\n\n\n勝ちも負けもない合氣道の世界を体感して、自分の軸を整え直し日本の伝統的な武道を体験してみませんか？ \n\n\n\n\n\n\n\n基本の基の簡単な技や護身術、体の使い方、体操、呼吸法など　優しい陽子先生が分かりやすく教えてくださいます。 \n\n\n\n\n\n\n\n道着はなくても大丈夫です。動きやすい服装でお気軽にお越しください飲み物をお持ちください。 \n\n\n\n参加希望の方は、参加表明をされたあとに、主催者のMessengerもしくはLINEの方にご連絡ください \n\n\n\n\n\n\n\n日時 　2024年4月9日(火)　　　 受付 13時30分～　　　 開始 14時～16時 \n\n\n\n場所 　 願応寺(筑紫野市山口843) \n\n\n\n料金 　2500円(おつりのないようにお願いいたします) \n\n\n\n講師 　 西山陽子先生 \n\n\n\n\n\n\n\n主催　 大山淳子
URL:https://nishiyamatakeo.com/event/%e9%99%bd%e6%b0%a3%e5%a1%be/
END:VEVENT
END:VCALENDAR