BEGIN:VCALENDAR
VERSION:2.0
PRODID:-//西山猛郎 Official Site - ECPv6.6.0.2//NONSGML v1.0//EN
CALSCALE:GREGORIAN
METHOD:PUBLISH
X-WR-CALNAME:西山猛郎 Official Site
X-ORIGINAL-URL:https://nishiyamatakeo.com
X-WR-CALDESC:西山猛郎 Official Site のイベント
REFRESH-INTERVAL;VALUE=DURATION:PT1H
X-Robots-Tag:noindex
X-PUBLISHED-TTL:PT1H
BEGIN:VTIMEZONE
TZID:Asia/Tokyo
BEGIN:STANDARD
TZOFFSETFROM:+0900
TZOFFSETTO:+0900
TZNAME:JST
DTSTART:20240101T000000
END:STANDARD
END:VTIMEZONE
BEGIN:VEVENT
DTSTART;TZID=Asia/Tokyo:20240930T080000
DTEND;TZID=Asia/Tokyo:20241006T170000
DTSTAMP:20260422T002220
CREATED:20240626T023455Z
LAST-MODIFIED:20240626T071059Z
UID:847-1727683200-1728234000@nishiyamatakeo.com
SUMMARY:第14回　国際合気道大会
DESCRIPTION:東京都内
URL:https://nishiyamatakeo.com/event/%e7%ac%ac14%e5%9b%9e%e3%80%80%e5%9b%bd%e9%9a%9b%e5%90%88%e6%b0%97%e9%81%93%e5%a4%a7%e4%bc%9a/
END:VEVENT
BEGIN:VEVENT
DTSTART;TZID=Asia/Tokyo:20241010T113000
DTEND;TZID=Asia/Tokyo:20241010T143000
DTSTAMP:20260422T002220
CREATED:20240828T065726Z
LAST-MODIFIED:20240927T095206Z
UID:977-1728559800-1728570600@nishiyamatakeo.com
SUMMARY:錬成会
DESCRIPTION:大宰府とびうめアリーナ武道場
URL:https://nishiyamatakeo.com/event/%e9%8c%ac%e6%88%90%e4%bc%9a-10/
CATEGORIES:錬成会/錬成塾
END:VEVENT
BEGIN:VEVENT
DTSTART;TZID=Asia/Tokyo:20241013T130000
DTEND;TZID=Asia/Tokyo:20241013T160000
DTSTAMP:20260422T002220
CREATED:20240828T071005Z
LAST-MODIFIED:20240927T093911Z
UID:995-1728824400-1728835200@nishiyamatakeo.com
SUMMARY:錬成塾
DESCRIPTION:八女市総合体育館武道場
URL:https://nishiyamatakeo.com/event/%e9%8c%ac%e6%88%90%e5%a1%be-2/
CATEGORIES:錬成会/錬成塾
END:VEVENT
BEGIN:VEVENT
DTSTART;TZID=Asia/Tokyo:20241014T130000
DTEND;TZID=Asia/Tokyo:20241014T160000
DTSTAMP:20260422T002220
CREATED:20240927T094647Z
LAST-MODIFIED:20240927T122903Z
UID:1060-1728910800-1728921600@nishiyamatakeo.com
SUMMARY:丈夫塾＠小郡
DESCRIPTION:小郡市武道場
URL:https://nishiyamatakeo.com/event/%e4%b8%88%e5%a4%ab%e5%a1%be%ef%bc%a0%e5%b0%8f%e9%83%a1-6/
CATEGORIES:丈夫塾
END:VEVENT
BEGIN:VEVENT
DTSTART;TZID=Asia/Tokyo:20241015T130000
DTEND;TZID=Asia/Tokyo:20241015T160000
DTSTAMP:20260422T002220
CREATED:20240828T060200Z
LAST-MODIFIED:20240925T120440Z
UID:958-1728997200-1729008000@nishiyamatakeo.com
SUMMARY:結びのお話し会＠筑紫野
DESCRIPTION:福岡県筑紫野願応寺
URL:https://nishiyamatakeo.com/event/%e7%b5%90%e3%81%b3%e3%81%ae%e3%81%8a%e8%a9%b1%e3%81%97%e4%bc%9a%ef%bc%a0%e7%ad%91%e7%b4%ab%e9%87%8e-2/
CATEGORIES:結び塾
END:VEVENT
BEGIN:VEVENT
DTSTART;TZID=Asia/Tokyo:20241017T113000
DTEND;TZID=Asia/Tokyo:20241017T143000
DTSTAMP:20260422T002220
CREATED:20240927T095116Z
LAST-MODIFIED:20240927T122845Z
UID:1064-1729164600-1729175400@nishiyamatakeo.com
SUMMARY:錬成会
DESCRIPTION:大宰府とびうめアリーナ武道場
URL:https://nishiyamatakeo.com/event/%e9%8c%ac%e6%88%90%e4%bc%9a-19/
CATEGORIES:錬成会/錬成塾
END:VEVENT
BEGIN:VEVENT
DTSTART;TZID=Asia/Tokyo:20241019T133000
DTEND;TZID=Asia/Tokyo:20241019T163000
DTSTAMP:20260422T002220
CREATED:20240828T061103Z
LAST-MODIFIED:20240925T120423Z
UID:965-1729344600-1729355400@nishiyamatakeo.com
SUMMARY:結びのお話し会＠都城
DESCRIPTION:都城市コミュニティセンター
URL:https://nishiyamatakeo.com/event/%e7%b5%90%e3%81%b3%e3%81%ae%e3%81%8a%e8%a9%b1%e3%81%97%e4%bc%9a%ef%bc%a0%e9%83%bd%e5%9f%8e-2/
CATEGORIES:結び塾
END:VEVENT
BEGIN:VEVENT
DTSTART;TZID=Asia/Tokyo:20241020T130000
DTEND;TZID=Asia/Tokyo:20241020T160000
DTSTAMP:20260422T002220
CREATED:20240828T062726Z
LAST-MODIFIED:20240927T094402Z
UID:973-1729429200-1729440000@nishiyamatakeo.com
SUMMARY:丈夫塾＠小郡
DESCRIPTION:小郡市武道場
URL:https://nishiyamatakeo.com/event/%e4%b8%88%e5%a4%ab%e5%a1%be%ef%bc%a0%e5%b0%8f%e9%83%a1-4/
CATEGORIES:丈夫塾
END:VEVENT
BEGIN:VEVENT
DTSTART;TZID=Asia/Tokyo:20241024T113000
DTEND;TZID=Asia/Tokyo:20241024T143000
DTSTAMP:20260422T002220
CREATED:20240828T065855Z
LAST-MODIFIED:20240927T095249Z
UID:979-1729769400-1729780200@nishiyamatakeo.com
SUMMARY:錬成会
DESCRIPTION:大宰府とびうめアリーナ武道場
URL:https://nishiyamatakeo.com/event/%e9%8c%ac%e6%88%90%e4%bc%9a-11/
CATEGORIES:錬成会/錬成塾
END:VEVENT
BEGIN:VEVENT
DTSTART;TZID=Asia/Tokyo:20241025T133000
DTEND;TZID=Asia/Tokyo:20241026T170000
DTSTAMP:20260422T002220
CREATED:20241012T000715Z
LAST-MODIFIED:20241016T063955Z
UID:1095-1729863000-1729962000@nishiyamatakeo.com
SUMMARY:結びのお話し会＠鹿児島
DESCRIPTION:
URL:https://nishiyamatakeo.com/event/%e7%b5%90%e3%81%b3%e3%81%ae%e3%81%8a%e8%a9%b1%e3%81%97%e4%bc%9a%ef%bc%a0%e9%b9%bf%e5%85%90%e5%b3%b6/
CATEGORIES:結び塾
END:VEVENT
BEGIN:VEVENT
DTSTART;TZID=Asia/Tokyo:20241027T130000
DTEND;TZID=Asia/Tokyo:20241027T160000
DTSTAMP:20260422T002220
CREATED:20240828T071052Z
LAST-MODIFIED:20240927T095530Z
UID:997-1730034000-1730044800@nishiyamatakeo.com
SUMMARY:錬成塾
DESCRIPTION:七城中学校武道場
URL:https://nishiyamatakeo.com/event/%e9%8c%ac%e6%88%90%e5%a1%be-3/
CATEGORIES:錬成会/錬成塾
END:VEVENT
BEGIN:VEVENT
DTSTART;TZID=Asia/Tokyo:20241029T120000
DTEND;TZID=Asia/Tokyo:20241029T150000
DTSTAMP:20260422T002220
CREATED:20240828T065949Z
LAST-MODIFIED:20240927T095323Z
UID:981-1730203200-1730214000@nishiyamatakeo.com
SUMMARY:錬成会
DESCRIPTION:大宰府とびうめアリーナ武道場
URL:https://nishiyamatakeo.com/event/%e9%8c%ac%e6%88%90%e4%bc%9a-12/
CATEGORIES:錬成会/錬成塾
END:VEVENT
END:VCALENDAR