BEGIN:VCALENDAR
VERSION:2.0
PRODID:-//西山猛郎 Official Site - ECPv6.6.0.2//NONSGML v1.0//EN
CALSCALE:GREGORIAN
METHOD:PUBLISH
X-WR-CALNAME:西山猛郎 Official Site
X-ORIGINAL-URL:https://nishiyamatakeo.com
X-WR-CALDESC:西山猛郎 Official Site のイベント
REFRESH-INTERVAL;VALUE=DURATION:PT1H
X-Robots-Tag:noindex
X-PUBLISHED-TTL:PT1H
BEGIN:VTIMEZONE
TZID:Asia/Tokyo
BEGIN:STANDARD
TZOFFSETFROM:+0900
TZOFFSETTO:+0900
TZNAME:JST
DTSTART:20240101T000000
END:STANDARD
END:VTIMEZONE
BEGIN:VEVENT
DTSTART;TZID=Asia/Tokyo:20240803T080000
DTEND;TZID=Asia/Tokyo:20240804T170000
DTSTAMP:20260422T030452
CREATED:20240322T113922Z
LAST-MODIFIED:20240704T001900Z
UID:321-1722672000-1722790800@nishiyamatakeo.com
SUMMARY:夏合宿＠嘉麻市
DESCRIPTION:
URL:https://nishiyamatakeo.com/event/%e5%a4%8f%e5%90%88%e5%ae%bf%ef%bc%a0%e7%a6%8f%e5%b2%a1%e7%9c%8c%e5%98%89%e9%ba%bb%e5%b8%82/
CATEGORIES:丈夫塾
END:VEVENT
BEGIN:VEVENT
DTSTART;TZID=Asia/Tokyo:20240806T120000
DTEND;TZID=Asia/Tokyo:20240806T150000
DTSTAMP:20260422T030452
CREATED:20240629T224935Z
LAST-MODIFIED:20240629T224935Z
UID:875-1722945600-1722956400@nishiyamatakeo.com
SUMMARY:錬成会
DESCRIPTION:小郡市武道場
URL:https://nishiyamatakeo.com/event/%e9%8c%ac%e6%88%90%e4%bc%9a-6/
END:VEVENT
BEGIN:VEVENT
DTSTART;TZID=Asia/Tokyo:20240810T160000
DTEND;TZID=Asia/Tokyo:20240810T180000
DTSTAMP:20260422T030452
CREATED:20240731T225111Z
LAST-MODIFIED:20240731T225113Z
UID:922-1723305600-1723312800@nishiyamatakeo.com
SUMMARY:企業研修
DESCRIPTION:熊本市内
URL:https://nishiyamatakeo.com/event/%e4%bc%81%e6%a5%ad%e7%a0%94%e4%bf%ae/
END:VEVENT
BEGIN:VEVENT
DTSTART;TZID=Asia/Tokyo:20240811T123000
DTEND;TZID=Asia/Tokyo:20240811T163000
DTSTAMP:20260422T030452
CREATED:20240626T020413Z
LAST-MODIFIED:20240626T020413Z
UID:829-1723379400-1723393800@nishiyamatakeo.com
SUMMARY:阿蘇錬成塾
DESCRIPTION:阿蘇市内
URL:https://nishiyamatakeo.com/event/%e9%98%bf%e8%98%87%e9%8c%ac%e6%88%90%e5%a1%be-5/
END:VEVENT
BEGIN:VEVENT
DTSTART;TZID=Asia/Tokyo:20240818T100000
DTEND;TZID=Asia/Tokyo:20240818T130000
DTSTAMP:20260422T030452
CREATED:20240626T014940Z
LAST-MODIFIED:20240626T014940Z
UID:813-1723975200-1723986000@nishiyamatakeo.com
SUMMARY:鹿児島結び塾（Bコース）
DESCRIPTION:鹿児島市内（開催場所は参加者様へ直接ご案内）
URL:https://nishiyamatakeo.com/event/%e9%b9%bf%e5%85%90%e5%b3%b6%e7%b5%90%e3%81%b3%e5%a1%be%ef%bc%88b%e3%82%b3%e3%83%bc%e3%82%b9%ef%bc%89/
END:VEVENT
BEGIN:VEVENT
DTSTART;TZID=Asia/Tokyo:20240822T120000
DTEND;TZID=Asia/Tokyo:20240822T150000
DTSTAMP:20260422T030452
CREATED:20240629T224429Z
LAST-MODIFIED:20240629T224509Z
UID:870-1724328000-1724338800@nishiyamatakeo.com
SUMMARY:錬成会
DESCRIPTION:小郡市武道場
URL:https://nishiyamatakeo.com/event/%e9%8c%ac%e6%88%90%e4%bc%9a-4/
END:VEVENT
BEGIN:VEVENT
DTSTART;TZID=Asia/Tokyo:20240824T130000
DTEND;TZID=Asia/Tokyo:20240824T160000
DTSTAMP:20260422T030452
CREATED:20240629T225645Z
LAST-MODIFIED:20240828T060825Z
UID:883-1724504400-1724515200@nishiyamatakeo.com
SUMMARY:結びのお話し会＠都城
DESCRIPTION:都城市コミュニティセンター
URL:https://nishiyamatakeo.com/event/%e7%b5%90%e3%81%b3%e3%81%ae%e3%81%8a%e8%a9%b1%e3%81%97%e4%bc%9a%ef%bc%a0%e9%83%bd%e5%9f%8e/
END:VEVENT
BEGIN:VEVENT
DTSTART;TZID=Asia/Tokyo:20240825T133000
DTEND;TZID=Asia/Tokyo:20240825T163000
DTSTAMP:20260422T030452
CREATED:20240626T021140Z
LAST-MODIFIED:20240626T021140Z
UID:832-1724592600-1724603400@nishiyamatakeo.com
SUMMARY:丈夫塾＠小郡
DESCRIPTION:福岡県小郡市武道場
URL:https://nishiyamatakeo.com/event/%e4%b8%88%e5%a4%ab%e5%a1%be%ef%bc%a0%e5%b0%8f%e9%83%a1/
END:VEVENT
BEGIN:VEVENT
DTSTART;TZID=Asia/Tokyo:20240827T130000
DTEND;TZID=Asia/Tokyo:20240827T150000
DTSTAMP:20260422T030452
CREATED:20240626T013019Z
LAST-MODIFIED:20240701T033637Z
UID:798-1724763600-1724770800@nishiyamatakeo.com
SUMMARY:結びのお話し会 ＠筑紫野
DESCRIPTION:福岡県筑紫野市願応寺様
URL:https://nishiyamatakeo.com/event/%e7%b5%90%e3%81%b3%e3%81%ae%e3%81%8a%e8%a9%b1%e3%81%97%e4%bc%9a-in-%e7%ad%91%e7%b4%ab%e9%87%8e/
END:VEVENT
BEGIN:VEVENT
DTSTART;TZID=Asia/Tokyo:20240829T120000
DTEND;TZID=Asia/Tokyo:20240829T150000
DTSTAMP:20260422T030452
CREATED:20240629T225056Z
LAST-MODIFIED:20240701T033617Z
UID:877-1724932800-1724943600@nishiyamatakeo.com
SUMMARY:錬成会
DESCRIPTION:小郡市武道場
URL:https://nishiyamatakeo.com/event/%e9%8c%ac%e6%88%90%e4%bc%9a-7/
END:VEVENT
END:VCALENDAR