BEGIN:VCALENDAR
VERSION:2.0
PRODID:-//西山猛郎 Official Site - ECPv6.6.0.2//NONSGML v1.0//EN
CALSCALE:GREGORIAN
METHOD:PUBLISH
X-WR-CALNAME:西山猛郎 Official Site
X-ORIGINAL-URL:https://nishiyamatakeo.com
X-WR-CALDESC:西山猛郎 Official Site のイベント
REFRESH-INTERVAL;VALUE=DURATION:PT1H
X-Robots-Tag:noindex
X-PUBLISHED-TTL:PT1H
BEGIN:VTIMEZONE
TZID:Asia/Tokyo
BEGIN:STANDARD
TZOFFSETFROM:+0900
TZOFFSETTO:+0900
TZNAME:JST
DTSTART:20240101T000000
END:STANDARD
END:VTIMEZONE
BEGIN:VEVENT
DTSTART;TZID=Asia/Tokyo:20240707T130000
DTEND;TZID=Asia/Tokyo:20240707T160000
DTSTAMP:20260422T043549
CREATED:20240704T113557Z
LAST-MODIFIED:20240704T113559Z
UID:905-1720357200-1720368000@nishiyamatakeo.com
SUMMARY:阿蘇錬成塾
DESCRIPTION:泗水中学校武道場
URL:https://nishiyamatakeo.com/event/%e9%98%bf%e8%98%87%e9%8c%ac%e6%88%90%e5%a1%be-7/
END:VEVENT
BEGIN:VEVENT
DTSTART;TZID=Asia/Tokyo:20240709T130000
DTEND;TZID=Asia/Tokyo:20240709T150000
DTSTAMP:20260422T043549
CREATED:20240626T004856Z
LAST-MODIFIED:20240629T223738Z
UID:787-1720530000-1720537200@nishiyamatakeo.com
SUMMARY:結びのお話し会＠筑紫野
DESCRIPTION:福岡県筑紫野市願応寺様にて
URL:https://nishiyamatakeo.com/event/%e7%b5%90%e3%81%b3%e3%81%ae%e3%81%8a%e8%a9%b1%e3%81%97%e4%bc%9a%e3%80%80i%ef%bd%8e-%e7%ad%91%e7%b4%ab%e9%87%8e/
END:VEVENT
BEGIN:VEVENT
DTSTART;TZID=Asia/Tokyo:20240711T120000
DTEND;TZID=Asia/Tokyo:20240711T150000
DTSTAMP:20260422T043549
CREATED:20240626T013648Z
LAST-MODIFIED:20240626T013648Z
UID:801-1720699200-1720710000@nishiyamatakeo.com
SUMMARY:錬成会
DESCRIPTION:福岡県小郡市武道場
URL:https://nishiyamatakeo.com/event/%e9%8c%ac%e6%88%90%e4%bc%9a/
END:VEVENT
BEGIN:VEVENT
DTSTART;TZID=Asia/Tokyo:20240714T040000
DTEND;TZID=Asia/Tokyo:20240714T163000
DTSTAMP:20260422T043549
CREATED:20240423T123557Z
LAST-MODIFIED:20240626T022735Z
UID:667-1720929600-1720974600@nishiyamatakeo.com
SUMMARY:丈夫塾＠小郡市
DESCRIPTION:福岡県小郡市武道場
URL:https://nishiyamatakeo.com/event/%e4%b8%88%e5%a4%ab%e5%a1%be%ef%bc%a0%e5%b0%8f%e9%83%a1%e5%b8%82-3/
END:VEVENT
BEGIN:VEVENT
DTSTART;TZID=Asia/Tokyo:20240721T093000
DTEND;TZID=Asia/Tokyo:20240721T163000
DTSTAMP:20260422T043549
CREATED:20240626T014341Z
LAST-MODIFIED:20240626T020712Z
UID:807-1721554200-1721579400@nishiyamatakeo.com
SUMMARY:東京結び塾
DESCRIPTION:東京都内（開催場所は参加者様へ直接ご案内）
URL:https://nishiyamatakeo.com/event/%e6%9d%b1%e4%ba%ac%e7%b5%90%e3%81%b3%e5%a1%be/
END:VEVENT
BEGIN:VEVENT
DTSTART;TZID=Asia/Tokyo:20240722T093000
DTEND;TZID=Asia/Tokyo:20240722T163000
DTSTAMP:20260422T043549
CREATED:20240626T014515Z
LAST-MODIFIED:20240626T014515Z
UID:809-1721640600-1721665800@nishiyamatakeo.com
SUMMARY:東京結び塾
DESCRIPTION:東京都内（開催場所は参加者様へ直接ご案内）
URL:https://nishiyamatakeo.com/event/%e6%9d%b1%e4%ba%ac%e7%b5%90%e3%81%b3%e5%a1%be-2/
END:VEVENT
BEGIN:VEVENT
DTSTART;TZID=Asia/Tokyo:20240725T120000
DTEND;TZID=Asia/Tokyo:20240725T150000
DTSTAMP:20260422T043549
CREATED:20240626T013858Z
LAST-MODIFIED:20240626T013858Z
UID:803-1721908800-1721919600@nishiyamatakeo.com
SUMMARY:錬成会
DESCRIPTION:福岡県小郡市武道場
URL:https://nishiyamatakeo.com/event/%e9%8c%ac%e6%88%90%e4%bc%9a-2/
END:VEVENT
BEGIN:VEVENT
DTSTART;TZID=Asia/Tokyo:20240727T133000
DTEND;TZID=Asia/Tokyo:20240727T163000
DTSTAMP:20260422T043549
CREATED:20240626T014750Z
LAST-MODIFIED:20240626T014750Z
UID:811-1722087000-1722097800@nishiyamatakeo.com
SUMMARY:鹿児島結び塾（Aコース）
DESCRIPTION:鹿児島市内（開催場所は参加者様へ直接ご案内９
URL:https://nishiyamatakeo.com/event/%e9%b9%bf%e5%85%90%e5%b3%b6%e7%b5%90%e3%81%b3%e5%a1%be%ef%bc%88a%e3%82%b3%e3%83%bc%e3%82%b9%ef%bc%89/
END:VEVENT
BEGIN:VEVENT
DTSTART;TZID=Asia/Tokyo:20240728T003000
DTEND;TZID=Asia/Tokyo:20240728T163000
DTSTAMP:20260422T043549
CREATED:20240626T020247Z
LAST-MODIFIED:20240626T020247Z
UID:827-1722126600-1722184200@nishiyamatakeo.com
SUMMARY:阿蘇錬成塾
DESCRIPTION:阿蘇市内（内牧中学校予定）
URL:https://nishiyamatakeo.com/event/%e9%98%bf%e8%98%87%e9%8c%ac%e6%88%90%e5%a1%be-4/
END:VEVENT
BEGIN:VEVENT
DTSTART;TZID=Asia/Tokyo:20240730T120000
DTEND;TZID=Asia/Tokyo:20240730T150000
DTSTAMP:20260422T043549
CREATED:20240626T014011Z
LAST-MODIFIED:20240626T014011Z
UID:805-1722340800-1722351600@nishiyamatakeo.com
SUMMARY:錬成会
DESCRIPTION:福岡県小郡市武道場
URL:https://nishiyamatakeo.com/event/%e9%8c%ac%e6%88%90%e4%bc%9a-3/
END:VEVENT
END:VCALENDAR