BEGIN:VCALENDAR
VERSION:2.0
PRODID:-//西山猛郎 Official Site - ECPv6.6.0.2//NONSGML v1.0//EN
CALSCALE:GREGORIAN
METHOD:PUBLISH
X-WR-CALNAME:西山猛郎 Official Site
X-ORIGINAL-URL:https://nishiyamatakeo.com
X-WR-CALDESC:西山猛郎 Official Site のイベント
REFRESH-INTERVAL;VALUE=DURATION:PT1H
X-Robots-Tag:noindex
X-PUBLISHED-TTL:PT1H
BEGIN:VTIMEZONE
TZID:Asia/Tokyo
BEGIN:STANDARD
TZOFFSETFROM:+0900
TZOFFSETTO:+0900
TZNAME:JST
DTSTART:20240101T000000
END:STANDARD
END:VTIMEZONE
BEGIN:VEVENT
DTSTART;TZID=Asia/Tokyo:20240528T000000
DTEND;TZID=Asia/Tokyo:20240614T235959
DTSTAMP:20260422T060419
CREATED:20240503T112241Z
LAST-MODIFIED:20240503T112242Z
UID:675-1716854400-1718409599@nishiyamatakeo.com
SUMMARY:モロッコ錬成塾
DESCRIPTION:
URL:https://nishiyamatakeo.com/event/%e3%83%a2%e3%83%ad%e3%83%83%e3%82%b3%e9%8c%ac%e6%88%90%e5%a1%be/
END:VEVENT
BEGIN:VEVENT
DTSTART;TZID=Asia/Tokyo:20240615T090000
DTEND;TZID=Asia/Tokyo:20240615T170000
DTSTAMP:20260422T060419
CREATED:20240522T121635Z
LAST-MODIFIED:20240522T121635Z
UID:728-1718442000-1718470800@nishiyamatakeo.com
SUMMARY:お話会＠大阪
DESCRIPTION:
URL:https://nishiyamatakeo.com/event/%e3%81%8a%e8%a9%b1%e4%bc%9a%ef%bc%a0%e5%a4%a7%e9%98%aa/
END:VEVENT
BEGIN:VEVENT
DTSTART;TZID=Asia/Tokyo:20240618T100000
DTEND;TZID=Asia/Tokyo:20240618T130000
DTSTAMP:20260422T060419
CREATED:20240614T134032Z
LAST-MODIFIED:20240614T134032Z
UID:783-1718704800-1718715600@nishiyamatakeo.com
SUMMARY:結び塾Cコース＠筑紫野市
DESCRIPTION:
URL:https://nishiyamatakeo.com/event/%e7%b5%90%e3%81%b3%e5%a1%bec%e3%82%b3%e3%83%bc%e3%82%b9%ef%bc%a0%e7%ad%91%e7%b4%ab%e9%87%8e%e5%b8%82/
END:VEVENT
BEGIN:VEVENT
DTSTART;TZID=Asia/Tokyo:20240620T120000
DTEND;TZID=Asia/Tokyo:20240620T160000
DTSTAMP:20260422T060419
CREATED:20240503T114643Z
LAST-MODIFIED:20240503T114644Z
UID:709-1718884800-1718899200@nishiyamatakeo.com
SUMMARY:錬成会＠小郡市
DESCRIPTION:
URL:https://nishiyamatakeo.com/event/%e9%8c%ac%e6%88%90%e4%bc%9a%ef%bc%a0%e5%b0%8f%e9%83%a1%e5%b8%82-5/
END:VEVENT
BEGIN:VEVENT
DTSTART;TZID=Asia/Tokyo:20240622T120000
DTEND;TZID=Asia/Tokyo:20240622T170000
DTSTAMP:20260422T060419
CREATED:20240614T133522Z
LAST-MODIFIED:20240614T133900Z
UID:779-1719057600-1719075600@nishiyamatakeo.com
SUMMARY:佐倉亜希子との放談＠阿蘇市
DESCRIPTION:
URL:https://nishiyamatakeo.com/event/%e3%81%8a%e8%a9%b1%e4%bc%9a%ef%bc%a0%e9%98%bf%e8%98%87%e5%b8%82/
END:VEVENT
BEGIN:VEVENT
DTSTART;TZID=Asia/Tokyo:20240623T123000
DTEND;TZID=Asia/Tokyo:20240623T163000
DTSTAMP:20260422T060419
CREATED:20240322T120732Z
LAST-MODIFIED:20240408T125358Z
UID:333-1719145800-1719160200@nishiyamatakeo.com
SUMMARY:阿蘇錬成塾@阿蘇市
DESCRIPTION:
URL:https://nishiyamatakeo.com/event/%e9%98%bf%e8%98%87%e9%8c%ac%e6%88%90%e5%a1%be-3/
END:VEVENT
BEGIN:VEVENT
DTSTART;TZID=Asia/Tokyo:20240624T133000
DTEND;TZID=Asia/Tokyo:20240624T163000
DTSTAMP:20260422T060419
CREATED:20240503T113151Z
LAST-MODIFIED:20240503T114428Z
UID:688-1719235800-1719246600@nishiyamatakeo.com
SUMMARY:結び塾＠鹿児島
DESCRIPTION:
URL:https://nishiyamatakeo.com/event/%e7%b5%90%e3%81%b3%e5%a1%be%ef%bc%a0%e9%b9%bf%e5%85%90%e5%b3%b6-4/
END:VEVENT
BEGIN:VEVENT
DTSTART;TZID=Asia/Tokyo:20240626T080000
DTEND;TZID=Asia/Tokyo:20240626T170000
DTSTAMP:20260422T060419
CREATED:20240626T015356Z
LAST-MODIFIED:20240626T015356Z
UID:817-1719388800-1719421200@nishiyamatakeo.com
SUMMARY:京都結び塾
DESCRIPTION:京都市内(開催場所は参加者様へ直接ご案内) \n\n\n\n二日間でA・B・Cコースを開催致します
URL:https://nishiyamatakeo.com/event/%e4%ba%ac%e9%83%bd%e7%b5%90%e3%81%b3%e5%a1%be/
END:VEVENT
BEGIN:VEVENT
DTSTART;TZID=Asia/Tokyo:20240627T120000
DTEND;TZID=Asia/Tokyo:20240627T160000
DTSTAMP:20260422T060419
CREATED:20240503T114726Z
LAST-MODIFIED:20240503T114751Z
UID:711-1719489600-1719504000@nishiyamatakeo.com
SUMMARY:錬成会＠小郡市
DESCRIPTION:
URL:https://nishiyamatakeo.com/event/%e9%8c%ac%e6%88%90%e4%bc%9a%ef%bc%a0%e5%b0%8f%e9%83%a1%e5%b8%82-6/
END:VEVENT
BEGIN:VEVENT
DTSTART;TZID=Asia/Tokyo:20240629T133000
DTEND;TZID=Asia/Tokyo:20240629T163000
DTSTAMP:20260422T060419
CREATED:20240503T113645Z
LAST-MODIFIED:20240626T022501Z
UID:694-1719667800-1719678600@nishiyamatakeo.com
SUMMARY:結びのお話会＠都城市
DESCRIPTION:都城市コミュニティーセンター
URL:https://nishiyamatakeo.com/event/%e7%b5%90%e3%81%b3%e5%a1%be%ef%bc%a0%e9%83%bd%e5%9f%8e/
END:VEVENT
BEGIN:VEVENT
DTSTART;TZID=Asia/Tokyo:20240630T133000
DTEND;TZID=Asia/Tokyo:20240630T163000
DTSTAMP:20260422T060419
CREATED:20240423T123407Z
LAST-MODIFIED:20240626T022622Z
UID:665-1719754200-1719765000@nishiyamatakeo.com
SUMMARY:丈夫塾＠小郡
DESCRIPTION:福岡県小郡市武道場
URL:https://nishiyamatakeo.com/event/%e4%b8%88%e5%a4%ab%e5%a1%be%ef%bc%a0%e5%b0%8f%e9%83%a1%e5%b8%82-2/
END:VEVENT
END:VCALENDAR