BEGIN:VCALENDAR
VERSION:2.0
PRODID:-//西山猛郎 Official Site - ECPv6.6.0.2//NONSGML v1.0//EN
CALSCALE:GREGORIAN
METHOD:PUBLISH
X-WR-CALNAME:西山猛郎 Official Site
X-ORIGINAL-URL:https://nishiyamatakeo.com
X-WR-CALDESC:西山猛郎 Official Site のイベント
REFRESH-INTERVAL;VALUE=DURATION:PT1H
X-Robots-Tag:noindex
X-PUBLISHED-TTL:PT1H
BEGIN:VTIMEZONE
TZID:Asia/Tokyo
BEGIN:STANDARD
TZOFFSETFROM:+0900
TZOFFSETTO:+0900
TZNAME:JST
DTSTART:20240101T000000
END:STANDARD
END:VTIMEZONE
BEGIN:VEVENT
DTSTART;TZID=Asia/Tokyo:20240505T123000
DTEND;TZID=Asia/Tokyo:20240505T163000
DTSTAMP:20260422T072646
CREATED:20240322T120533Z
LAST-MODIFIED:20240408T125421Z
UID:331-1714912200-1714926600@nishiyamatakeo.com
SUMMARY:阿蘇錬成塾＠菊池市
DESCRIPTION:
URL:https://nishiyamatakeo.com/event/%e9%98%bf%e8%98%87%e9%8c%ac%e6%88%90%e5%a1%be-2/
END:VEVENT
BEGIN:VEVENT
DTSTART;TZID=Asia/Tokyo:20240506T093000
DTEND;TZID=Asia/Tokyo:20240506T123000
DTSTAMP:20260422T072646
CREATED:20240503T112824Z
LAST-MODIFIED:20240503T112825Z
UID:681-1714987800-1714998600@nishiyamatakeo.com
SUMMARY:結び塾＠鹿児島
DESCRIPTION:
URL:https://nishiyamatakeo.com/event/%e7%b5%90%e3%81%b3%e5%a1%be%ef%bc%a0%e9%b9%bf%e5%85%90%e5%b3%b6/
END:VEVENT
BEGIN:VEVENT
DTSTART;TZID=Asia/Tokyo:20240506T133000
DTEND;TZID=Asia/Tokyo:20240506T163000
DTSTAMP:20260422T072646
CREATED:20240503T112917Z
LAST-MODIFIED:20240503T112918Z
UID:683-1715002200-1715013000@nishiyamatakeo.com
SUMMARY:結び塾＠鹿児島
DESCRIPTION:
URL:https://nishiyamatakeo.com/event/%e7%b5%90%e3%81%b3%e5%a1%be%ef%bc%a0%e9%b9%bf%e5%85%90%e5%b3%b6-2/
END:VEVENT
BEGIN:VEVENT
DTSTART;TZID=Asia/Tokyo:20240507T100000
DTEND;TZID=Asia/Tokyo:20240507T130000
DTSTAMP:20260422T072646
CREATED:20240503T113322Z
LAST-MODIFIED:20240503T114504Z
UID:690-1715076000-1715086800@nishiyamatakeo.com
SUMMARY:結び塾＠筑紫野市
DESCRIPTION:
URL:https://nishiyamatakeo.com/event/%e7%b5%90%e3%81%b3%e5%a1%be%ef%bc%a0%e7%ad%91%e7%b4%ab%e9%87%8e/
END:VEVENT
BEGIN:VEVENT
DTSTART;TZID=Asia/Tokyo:20240507T140000
DTEND;TZID=Asia/Tokyo:20240507T170000
DTSTAMP:20260422T072646
CREATED:20240503T114929Z
LAST-MODIFIED:20240503T114930Z
UID:713-1715090400-1715101200@nishiyamatakeo.com
SUMMARY:陽氣塾＠筑紫野市
DESCRIPTION:
URL:https://nishiyamatakeo.com/event/%e9%99%bd%e6%b0%a3%e5%a1%be%ef%bc%a0%e7%ad%91%e7%b4%ab%e9%87%8e%e5%b8%82/
END:VEVENT
BEGIN:VEVENT
DTSTART;TZID=Asia/Tokyo:20240509T120000
DTEND;TZID=Asia/Tokyo:20240509T160000
DTSTAMP:20260422T072646
CREATED:20240503T114338Z
LAST-MODIFIED:20240503T114338Z
UID:700-1715256000-1715270400@nishiyamatakeo.com
SUMMARY:錬成会＠小郡市
DESCRIPTION:
URL:https://nishiyamatakeo.com/event/%e9%8c%ac%e6%88%90%e4%bc%9a%ef%bc%a0%e5%b0%8f%e9%83%a1%e5%b8%82-3/
END:VEVENT
BEGIN:VEVENT
DTSTART;TZID=Asia/Tokyo:20240512T133000
DTEND;TZID=Asia/Tokyo:20240512T163000
DTSTAMP:20260422T072646
CREATED:20240503T112447Z
LAST-MODIFIED:20240503T112530Z
UID:677-1715520600-1715531400@nishiyamatakeo.com
SUMMARY:結び塾＠東京
DESCRIPTION:
URL:https://nishiyamatakeo.com/event/%e7%b5%90%e3%81%b3%e5%a1%be%ef%bc%a0%e6%9d%b1%e4%ba%ac/
END:VEVENT
BEGIN:VEVENT
DTSTART;TZID=Asia/Tokyo:20240513T133000
DTEND;TZID=Asia/Tokyo:20240513T163000
DTSTAMP:20260422T072646
CREATED:20240503T112612Z
LAST-MODIFIED:20240503T112613Z
UID:679-1715607000-1715617800@nishiyamatakeo.com
SUMMARY:結び塾＠東京
DESCRIPTION:
URL:https://nishiyamatakeo.com/event/%e7%b5%90%e3%81%b3%e5%a1%be%ef%bc%a0%e6%9d%b1%e4%ba%ac-2/
END:VEVENT
BEGIN:VEVENT
DTSTART;TZID=Asia/Tokyo:20240515T133000
DTEND;TZID=Asia/Tokyo:20240515T163000
DTSTAMP:20260422T072646
CREATED:20240503T114011Z
LAST-MODIFIED:20240503T114454Z
UID:696-1715779800-1715790600@nishiyamatakeo.com
SUMMARY:丈夫塾＠川越市
DESCRIPTION:
URL:https://nishiyamatakeo.com/event/%e4%b8%88%e5%a4%ab%e5%a1%be%ef%bc%a0%e5%b7%9d%e8%b6%8a/
END:VEVENT
BEGIN:VEVENT
DTSTART;TZID=Asia/Tokyo:20240516T133000
DTEND;TZID=Asia/Tokyo:20240516T163000
DTSTAMP:20260422T072646
CREATED:20240503T114124Z
LAST-MODIFIED:20240503T114447Z
UID:698-1715866200-1715877000@nishiyamatakeo.com
SUMMARY:丈夫塾＠川越市
DESCRIPTION:
URL:https://nishiyamatakeo.com/event/%e4%b8%88%e5%a4%ab%e5%a1%be%ef%bc%a0%e5%b7%9d%e8%b6%8a-2/
END:VEVENT
BEGIN:VEVENT
DTSTART;TZID=Asia/Tokyo:20240518T120000
DTEND;TZID=Asia/Tokyo:20240518T170000
DTSTAMP:20260422T072646
CREATED:20240503T115140Z
LAST-MODIFIED:20240512T150056Z
UID:717-1716033600-1716051600@nishiyamatakeo.com
SUMMARY:茶話会＠阿蘇市
DESCRIPTION:
URL:https://nishiyamatakeo.com/event/%e8%8c%b6%e8%a9%b1%e4%bc%9a%ef%bc%a0%e9%98%bf%e8%98%87%e5%b8%82/
END:VEVENT
BEGIN:VEVENT
DTSTART;TZID=Asia/Tokyo:20240519T133000
DTEND;TZID=Asia/Tokyo:20240519T173000
DTSTAMP:20260422T072646
CREATED:20240423T123034Z
LAST-MODIFIED:20240423T123035Z
UID:661-1716125400-1716139800@nishiyamatakeo.com
SUMMARY:丈夫塾＠小郡市
DESCRIPTION:
URL:https://nishiyamatakeo.com/event/%e4%b8%88%e5%a4%ab%e5%a1%be%ef%bc%a0%e5%b0%8f%e9%83%a1%e5%b8%82/
END:VEVENT
BEGIN:VEVENT
DTSTART;TZID=Asia/Tokyo:20240520T133000
DTEND;TZID=Asia/Tokyo:20240520T163000
DTSTAMP:20260422T072646
CREATED:20240503T113034Z
LAST-MODIFIED:20240503T113035Z
UID:685-1716211800-1716222600@nishiyamatakeo.com
SUMMARY:結び塾＠鹿児島
DESCRIPTION:
URL:https://nishiyamatakeo.com/event/%e7%b5%90%e3%81%b3%e5%a1%be%ef%bc%a0%e9%b9%bf%e5%85%90%e5%b3%b6-3/
END:VEVENT
BEGIN:VEVENT
DTSTART;TZID=Asia/Tokyo:20240521T120000
DTEND;TZID=Asia/Tokyo:20240521T160000
DTSTAMP:20260422T072646
CREATED:20240503T114558Z
LAST-MODIFIED:20240503T114559Z
UID:707-1716292800-1716307200@nishiyamatakeo.com
SUMMARY:錬成会＠小郡市
DESCRIPTION:
URL:https://nishiyamatakeo.com/event/%e9%8c%ac%e6%88%90%e4%bc%9a%ef%bc%a0%e5%b0%8f%e9%83%a1%e5%b8%82-4/
END:VEVENT
BEGIN:VEVENT
DTSTART;TZID=Asia/Tokyo:20240528T000000
DTEND;TZID=Asia/Tokyo:20240614T235959
DTSTAMP:20260422T072646
CREATED:20240503T112241Z
LAST-MODIFIED:20240503T112242Z
UID:675-1716854400-1718409599@nishiyamatakeo.com
SUMMARY:モロッコ錬成塾
DESCRIPTION:
URL:https://nishiyamatakeo.com/event/%e3%83%a2%e3%83%ad%e3%83%83%e3%82%b3%e9%8c%ac%e6%88%90%e5%a1%be/
END:VEVENT
END:VCALENDAR