BEGIN:VCALENDAR
VERSION:2.0
PRODID:-//西山猛郎 Official Site - ECPv6.6.0.2//NONSGML v1.0//EN
CALSCALE:GREGORIAN
METHOD:PUBLISH
X-WR-CALNAME:西山猛郎 Official Site
X-ORIGINAL-URL:https://nishiyamatakeo.com
X-WR-CALDESC:西山猛郎 Official Site のイベント
REFRESH-INTERVAL;VALUE=DURATION:PT1H
X-Robots-Tag:noindex
X-PUBLISHED-TTL:PT1H
BEGIN:VTIMEZONE
TZID:Asia/Tokyo
BEGIN:STANDARD
TZOFFSETFROM:+0900
TZOFFSETTO:+0900
TZNAME:JST
DTSTART:20240101T000000
END:STANDARD
END:VTIMEZONE
BEGIN:VEVENT
DTSTART;TZID=Asia/Tokyo:20240325T150000
DTEND;TZID=Asia/Tokyo:20240325T180000
DTSTAMP:20260422T114319
CREATED:20240320T090110Z
LAST-MODIFIED:20240320T090516Z
UID:229-1711378800-1711389600@nishiyamatakeo.com
SUMMARY:結び塾＠龍田大社
DESCRIPTION:
URL:https://nishiyamatakeo.com/event/%e7%b5%90%e3%81%b3%e5%a1%be%ef%bc%a0%e9%be%8d%e7%94%b0%e5%a4%a7%e7%a4%be/
END:VEVENT
BEGIN:VEVENT
DTSTART;TZID=Asia/Tokyo:20240324T140000
DTEND;TZID=Asia/Tokyo:20240324T170000
DTSTAMP:20260422T114319
CREATED:20240320T053503Z
LAST-MODIFIED:20240322T114324Z
UID:131-1711288800-1711299600@nishiyamatakeo.com
SUMMARY:龍田・大社上田安徳宮司とスペシャル対談
DESCRIPTION:
URL:https://nishiyamatakeo.com/event/%e9%be%8d%e7%94%b0%e3%83%bb%e5%a4%a7%e7%a4%be%e4%b8%8a%e7%94%b0%e5%ae%89%e5%be%b3%e5%ae%ae%e5%8f%b8%e3%81%a8%e3%82%b9%e3%83%9a%e3%82%b7%e3%83%a3%e3%83%ab%e5%af%be%e8%ab%87/
END:VEVENT
END:VCALENDAR