BEGIN:VCALENDAR
VERSION:2.0
PRODID:-//西山猛郎 Official Site - ECPv6.6.0.2//NONSGML v1.0//EN
CALSCALE:GREGORIAN
METHOD:PUBLISH
X-WR-CALNAME:西山猛郎 Official Site
X-ORIGINAL-URL:https://nishiyamatakeo.com
X-WR-CALDESC:西山猛郎 Official Site のイベント
REFRESH-INTERVAL;VALUE=DURATION:PT1H
X-Robots-Tag:noindex
X-PUBLISHED-TTL:PT1H
BEGIN:VTIMEZONE
TZID:Asia/Tokyo
BEGIN:STANDARD
TZOFFSETFROM:+0900
TZOFFSETTO:+0900
TZNAME:JST
DTSTART:20250101T000000
END:STANDARD
END:VTIMEZONE
BEGIN:VEVENT
DTSTART;TZID=Asia/Tokyo:20250223T120000
DTEND;TZID=Asia/Tokyo:20250223T150000
DTSTAMP:20260422T085119
CREATED:20241227T084619Z
LAST-MODIFIED:20241227T084620Z
UID:1179-1740312000-1740322800@nishiyamatakeo.com
SUMMARY:丈夫塾
DESCRIPTION:鳥栖市民体育館武道場
URL:https://nishiyamatakeo.com/event/%e4%b8%88%e5%a4%ab%e5%a1%be-4/
CATEGORIES:丈夫塾
END:VEVENT
END:VCALENDAR