BEGIN:VCALENDAR
VERSION:2.0
PRODID:-//西山猛郎 Official Site - ECPv6.6.0.2//NONSGML v1.0//EN
CALSCALE:GREGORIAN
METHOD:PUBLISH
X-WR-CALNAME:西山猛郎 Official Site
X-ORIGINAL-URL:https://nishiyamatakeo.com
X-WR-CALDESC:西山猛郎 Official Site のイベント
REFRESH-INTERVAL;VALUE=DURATION:PT1H
X-Robots-Tag:noindex
X-PUBLISHED-TTL:PT1H
BEGIN:VTIMEZONE
TZID:Asia/Tokyo
BEGIN:STANDARD
TZOFFSETFROM:+0900
TZOFFSETTO:+0900
TZNAME:JST
DTSTART:20250101T000000
END:STANDARD
END:VTIMEZONE
BEGIN:VEVENT
DTSTART;TZID=Asia/Tokyo:20250529T080000
DTEND;TZID=Asia/Tokyo:20250601T170000
DTSTAMP:20260422T072642
CREATED:20250220T235656Z
LAST-MODIFIED:20250220T235842Z
UID:1279-1748505600-1748797200@nishiyamatakeo.com
SUMMARY:西山丈夫塾＠合同合宿
DESCRIPTION:ボストン・スウェーデン合氣道
URL:https://nishiyamatakeo.com/event/%e8%a5%bf%e5%b1%b1%e4%b8%88%e5%a4%ab%e5%a1%be%ef%bc%a0%e5%90%88%e5%90%8c%e5%90%88%e5%ae%bf/
CATEGORIES:丈夫塾,錬成会/錬成塾
END:VEVENT
BEGIN:VEVENT
DTSTART;TZID=Asia/Tokyo:20250603T120000
DTEND;TZID=Asia/Tokyo:20250603T150000
DTSTAMP:20260422T072642
CREATED:20250411T220041Z
LAST-MODIFIED:20250411T221212Z
UID:1320-1748952000-1748962800@nishiyamatakeo.com
SUMMARY:錬成会
DESCRIPTION:
URL:https://nishiyamatakeo.com/event/%e9%8c%ac%e6%88%90%e4%bc%9a-38/
CATEGORIES:錬成会/錬成塾
END:VEVENT
BEGIN:VEVENT
DTSTART;TZID=Asia/Tokyo:20250608T130000
DTEND;TZID=Asia/Tokyo:20250608T160000
DTSTAMP:20260422T072642
CREATED:20250411T215222Z
LAST-MODIFIED:20250411T221951Z
UID:1304-1749387600-1749398400@nishiyamatakeo.com
SUMMARY:錬成塾
DESCRIPTION:筑紫野農業者トレーニングセンター
URL:https://nishiyamatakeo.com/event/%e9%8c%ac%e6%88%90%e5%a1%be-18/
CATEGORIES:錬成会/錬成塾
END:VEVENT
BEGIN:VEVENT
DTSTART;TZID=Asia/Tokyo:20250613T120000
DTEND;TZID=Asia/Tokyo:20250613T150000
DTSTAMP:20260422T072642
CREATED:20250411T220125Z
LAST-MODIFIED:20250411T222038Z
UID:1322-1749816000-1749826800@nishiyamatakeo.com
SUMMARY:錬成会
DESCRIPTION:
URL:https://nishiyamatakeo.com/event/%e9%8c%ac%e6%88%90%e4%bc%9a-39/
CATEGORIES:錬成会/錬成塾
END:VEVENT
BEGIN:VEVENT
DTSTART;TZID=Asia/Tokyo:20250615T100000
DTEND;TZID=Asia/Tokyo:20250615T160000
DTSTAMP:20260422T072642
CREATED:20250411T214517Z
LAST-MODIFIED:20250411T222058Z
UID:1294-1749981600-1750003200@nishiyamatakeo.com
SUMMARY:西国武道館演武大会
DESCRIPTION:
URL:https://nishiyamatakeo.com/event/%e8%a5%bf%e5%9b%bd%e6%ad%a6%e9%81%93%e9%a4%a8%e6%bc%94%e6%ad%a6%e5%a4%a7%e4%bc%9a/
CATEGORIES:錬成会/錬成塾
END:VEVENT
BEGIN:VEVENT
DTSTART;TZID=Asia/Tokyo:20250617T120000
DTEND;TZID=Asia/Tokyo:20250617T150000
DTSTAMP:20260422T072642
CREATED:20250411T220210Z
LAST-MODIFIED:20250411T222119Z
UID:1324-1750161600-1750172400@nishiyamatakeo.com
SUMMARY:錬成会
DESCRIPTION:
URL:https://nishiyamatakeo.com/event/%e9%8c%ac%e6%88%90%e4%bc%9a-40/
CATEGORIES:錬成会/錬成塾
END:VEVENT
BEGIN:VEVENT
DTSTART;TZID=Asia/Tokyo:20250622T130000
DTEND;TZID=Asia/Tokyo:20250622T160000
DTSTAMP:20260422T072642
CREATED:20250411T215334Z
LAST-MODIFIED:20250411T222141Z
UID:1306-1750597200-1750608000@nishiyamatakeo.com
SUMMARY:錬成塾
DESCRIPTION:筑紫野農業者トレーニングセンター
URL:https://nishiyamatakeo.com/event/%e9%8c%ac%e6%88%90%e5%a1%be-19/
CATEGORIES:錬成会/錬成塾
END:VEVENT
BEGIN:VEVENT
DTSTART;TZID=Asia/Tokyo:20250624T120000
DTEND;TZID=Asia/Tokyo:20250624T150000
DTSTAMP:20260422T072642
CREATED:20250411T220247Z
LAST-MODIFIED:20250411T222159Z
UID:1326-1750766400-1750777200@nishiyamatakeo.com
SUMMARY:錬成会
DESCRIPTION:
URL:https://nishiyamatakeo.com/event/%e9%8c%ac%e6%88%90%e4%bc%9a-41/
CATEGORIES:錬成会/錬成塾
END:VEVENT
END:VCALENDAR