BEGIN:VCALENDAR
VERSION:2.0
PRODID:-//西山猛郎 Official Site - ECPv6.6.0.2//NONSGML v1.0//EN
CALSCALE:GREGORIAN
METHOD:PUBLISH
X-WR-CALNAME:西山猛郎 Official Site
X-ORIGINAL-URL:https://nishiyamatakeo.com
X-WR-CALDESC:西山猛郎 Official Site のイベント
REFRESH-INTERVAL;VALUE=DURATION:PT1H
X-Robots-Tag:noindex
X-PUBLISHED-TTL:PT1H
BEGIN:VTIMEZONE
TZID:Asia/Tokyo
BEGIN:STANDARD
TZOFFSETFROM:+0900
TZOFFSETTO:+0900
TZNAME:JST
DTSTART:20240101T000000
END:STANDARD
END:VTIMEZONE
BEGIN:VEVENT
DTSTART;TZID=Asia/Tokyo:20241107T113000
DTEND;TZID=Asia/Tokyo:20241107T143000
DTSTAMP:20260422T185151
CREATED:20240828T070201Z
LAST-MODIFIED:20240927T095823Z
UID:983-1730979000-1730989800@nishiyamatakeo.com
SUMMARY:錬成会
DESCRIPTION:大宰府とびうめアリーナ武道場
URL:https://nishiyamatakeo.com/event/%e9%8c%ac%e6%88%90%e4%bc%9a-13/
CATEGORIES:錬成会/錬成塾
END:VEVENT
BEGIN:VEVENT
DTSTART;TZID=Asia/Tokyo:20241110T130000
DTEND;TZID=Asia/Tokyo:20241110T160000
DTSTAMP:20260422T185151
CREATED:20240828T071154Z
LAST-MODIFIED:20241022T001047Z
UID:999-1731243600-1731254400@nishiyamatakeo.com
SUMMARY:錬成塾
DESCRIPTION:七城中学校武道場
URL:https://nishiyamatakeo.com/event/%e9%8c%ac%e6%88%90%e5%a1%be-4/
CATEGORIES:錬成会/錬成塾
END:VEVENT
BEGIN:VEVENT
DTSTART;TZID=Asia/Tokyo:20241114T113000
DTEND;TZID=Asia/Tokyo:20241114T143000
DTSTAMP:20260422T185151
CREATED:20240927T100054Z
LAST-MODIFIED:20240927T122810Z
UID:1072-1731583800-1731594600@nishiyamatakeo.com
SUMMARY:錬成会
DESCRIPTION:大宰府とびうめアリーナ武道場
URL:https://nishiyamatakeo.com/event/%e9%8c%ac%e6%88%90%e4%bc%9a-20/
CATEGORIES:錬成会/錬成塾
END:VEVENT
BEGIN:VEVENT
DTSTART;TZID=Asia/Tokyo:20241119T113000
DTEND;TZID=Asia/Tokyo:20241119T143000
DTSTAMP:20260422T185151
CREATED:20240828T070307Z
LAST-MODIFIED:20241016T064253Z
UID:985-1732015800-1732026600@nishiyamatakeo.com
SUMMARY:錬成会
DESCRIPTION:大宰府とびうめアリーナ武道場
URL:https://nishiyamatakeo.com/event/%e9%8c%ac%e6%88%90%e4%bc%9a-14/
CATEGORIES:錬成会/錬成塾
END:VEVENT
BEGIN:VEVENT
DTSTART;TZID=Asia/Tokyo:20241124T130000
DTEND;TZID=Asia/Tokyo:20241124T160000
DTSTAMP:20260422T185151
CREATED:20240828T071240Z
LAST-MODIFIED:20241022T001132Z
UID:1001-1732453200-1732464000@nishiyamatakeo.com
SUMMARY:錬成塾
DESCRIPTION:八女市総合体育館武道場
URL:https://nishiyamatakeo.com/event/%e9%8c%ac%e6%88%90%e5%a1%be-5/
CATEGORIES:錬成会/錬成塾
END:VEVENT
BEGIN:VEVENT
DTSTART;TZID=Asia/Tokyo:20241126T113000
DTEND;TZID=Asia/Tokyo:20241126T143000
DTSTAMP:20260422T185151
CREATED:20240828T070404Z
LAST-MODIFIED:20240927T100334Z
UID:987-1732620600-1732631400@nishiyamatakeo.com
SUMMARY:錬成会
DESCRIPTION:大宰府とびうめアリーナ武道場
URL:https://nishiyamatakeo.com/event/%e9%8c%ac%e6%88%90%e4%bc%9a-15/
CATEGORIES:錬成会/錬成塾
END:VEVENT
END:VCALENDAR