BEGIN:VCALENDAR
VERSION:2.0
PRODID:-//西山猛郎 Official Site - ECPv6.6.0.2//NONSGML v1.0//EN
CALSCALE:GREGORIAN
METHOD:PUBLISH
X-WR-CALNAME:西山猛郎 Official Site
X-ORIGINAL-URL:https://nishiyamatakeo.com
X-WR-CALDESC:西山猛郎 Official Site のイベント
REFRESH-INTERVAL;VALUE=DURATION:PT1H
X-Robots-Tag:noindex
X-PUBLISHED-TTL:PT1H
BEGIN:VTIMEZONE
TZID:Asia/Tokyo
BEGIN:STANDARD
TZOFFSETFROM:+0900
TZOFFSETTO:+0900
TZNAME:JST
DTSTART:20250101T000000
END:STANDARD
END:VTIMEZONE
BEGIN:VEVENT
DTSTART;TZID=Asia/Tokyo:20250803T130000
DTEND;TZID=Asia/Tokyo:20250803T160000
DTSTAMP:20260422T085357
CREATED:20250411T215634Z
LAST-MODIFIED:20250411T221733Z
UID:1312-1754226000-1754236800@nishiyamatakeo.com
SUMMARY:錬成塾
DESCRIPTION:筑紫野農業者トレーニングセンター
URL:https://nishiyamatakeo.com/event/%e9%8c%ac%e6%88%90%e5%a1%be-23/
CATEGORIES:錬成会/錬成塾
END:VEVENT
BEGIN:VEVENT
DTSTART;TZID=Asia/Tokyo:20250729T120000
DTEND;TZID=Asia/Tokyo:20250729T150000
DTSTAMP:20260422T085357
CREATED:20250411T220609Z
LAST-MODIFIED:20250411T221740Z
UID:1336-1753790400-1753801200@nishiyamatakeo.com
SUMMARY:錬成会
DESCRIPTION:
URL:https://nishiyamatakeo.com/event/%e9%8c%ac%e6%88%90%e4%bc%9a-46/
CATEGORIES:錬成会/錬成塾
END:VEVENT
BEGIN:VEVENT
DTSTART;TZID=Asia/Tokyo:20250722T120000
DTEND;TZID=Asia/Tokyo:20250722T150000
DTSTAMP:20260422T085357
CREATED:20250411T220533Z
LAST-MODIFIED:20250411T221748Z
UID:1334-1753185600-1753196400@nishiyamatakeo.com
SUMMARY:錬成会
DESCRIPTION:
URL:https://nishiyamatakeo.com/event/%e9%8c%ac%e6%88%90%e4%bc%9a-45/
CATEGORIES:錬成会/錬成塾
END:VEVENT
BEGIN:VEVENT
DTSTART;TZID=Asia/Tokyo:20250720T130000
DTEND;TZID=Asia/Tokyo:20250720T160000
DTSTAMP:20260422T085357
CREATED:20250411T215534Z
LAST-MODIFIED:20250411T221757Z
UID:1310-1753016400-1753027200@nishiyamatakeo.com
SUMMARY:錬成塾
DESCRIPTION:筑紫野農業者トレーニングセンター
URL:https://nishiyamatakeo.com/event/%e9%8c%ac%e6%88%90%e5%a1%be-22/
CATEGORIES:錬成会/錬成塾
END:VEVENT
BEGIN:VEVENT
DTSTART;TZID=Asia/Tokyo:20250715T120000
DTEND;TZID=Asia/Tokyo:20250715T150000
DTSTAMP:20260422T085357
CREATED:20250411T220446Z
LAST-MODIFIED:20250411T221803Z
UID:1332-1752580800-1752591600@nishiyamatakeo.com
SUMMARY:錬成会
DESCRIPTION:
URL:https://nishiyamatakeo.com/event/%e9%8c%ac%e6%88%90%e4%bc%9a-44/
CATEGORIES:錬成会/錬成塾
END:VEVENT
BEGIN:VEVENT
DTSTART;TZID=Asia/Tokyo:20250708T120000
DTEND;TZID=Asia/Tokyo:20250708T150000
DTSTAMP:20260422T085357
CREATED:20250411T220403Z
LAST-MODIFIED:20250704T224720Z
UID:1330-1751976000-1751986800@nishiyamatakeo.com
SUMMARY:錬成会
DESCRIPTION:
URL:https://nishiyamatakeo.com/event/%e9%8c%ac%e6%88%90%e4%bc%9a-43/
CATEGORIES:錬成会/錬成塾
END:VEVENT
BEGIN:VEVENT
DTSTART;TZID=Asia/Tokyo:20250706T130000
DTEND;TZID=Asia/Tokyo:20250706T160000
DTSTAMP:20260422T085357
CREATED:20250411T215436Z
LAST-MODIFIED:20250411T222234Z
UID:1308-1751806800-1751817600@nishiyamatakeo.com
SUMMARY:錬成塾
DESCRIPTION:筑紫野農業者トレーニングセンター
URL:https://nishiyamatakeo.com/event/%e9%8c%ac%e6%88%90%e5%a1%be-20/
CATEGORIES:錬成会/錬成塾
END:VEVENT
BEGIN:VEVENT
DTSTART;TZID=Asia/Tokyo:20250701T120000
DTEND;TZID=Asia/Tokyo:20250701T150000
DTSTAMP:20260422T085357
CREATED:20250411T220327Z
LAST-MODIFIED:20250411T222216Z
UID:1328-1751371200-1751382000@nishiyamatakeo.com
SUMMARY:錬成会
DESCRIPTION:
URL:https://nishiyamatakeo.com/event/%e9%8c%ac%e6%88%90%e4%bc%9a-42/
CATEGORIES:錬成会/錬成塾
END:VEVENT
BEGIN:VEVENT
DTSTART;TZID=Asia/Tokyo:20250624T120000
DTEND;TZID=Asia/Tokyo:20250624T150000
DTSTAMP:20260422T085357
CREATED:20250411T220247Z
LAST-MODIFIED:20250411T222159Z
UID:1326-1750766400-1750777200@nishiyamatakeo.com
SUMMARY:錬成会
DESCRIPTION:
URL:https://nishiyamatakeo.com/event/%e9%8c%ac%e6%88%90%e4%bc%9a-41/
CATEGORIES:錬成会/錬成塾
END:VEVENT
BEGIN:VEVENT
DTSTART;TZID=Asia/Tokyo:20250622T130000
DTEND;TZID=Asia/Tokyo:20250622T160000
DTSTAMP:20260422T085357
CREATED:20250411T215334Z
LAST-MODIFIED:20250411T222141Z
UID:1306-1750597200-1750608000@nishiyamatakeo.com
SUMMARY:錬成塾
DESCRIPTION:筑紫野農業者トレーニングセンター
URL:https://nishiyamatakeo.com/event/%e9%8c%ac%e6%88%90%e5%a1%be-19/
CATEGORIES:錬成会/錬成塾
END:VEVENT
BEGIN:VEVENT
DTSTART;TZID=Asia/Tokyo:20250617T120000
DTEND;TZID=Asia/Tokyo:20250617T150000
DTSTAMP:20260422T085357
CREATED:20250411T220210Z
LAST-MODIFIED:20250411T222119Z
UID:1324-1750161600-1750172400@nishiyamatakeo.com
SUMMARY:錬成会
DESCRIPTION:
URL:https://nishiyamatakeo.com/event/%e9%8c%ac%e6%88%90%e4%bc%9a-40/
CATEGORIES:錬成会/錬成塾
END:VEVENT
BEGIN:VEVENT
DTSTART;TZID=Asia/Tokyo:20250615T100000
DTEND;TZID=Asia/Tokyo:20250615T160000
DTSTAMP:20260422T085357
CREATED:20250411T214517Z
LAST-MODIFIED:20250411T222058Z
UID:1294-1749981600-1750003200@nishiyamatakeo.com
SUMMARY:西国武道館演武大会
DESCRIPTION:
URL:https://nishiyamatakeo.com/event/%e8%a5%bf%e5%9b%bd%e6%ad%a6%e9%81%93%e9%a4%a8%e6%bc%94%e6%ad%a6%e5%a4%a7%e4%bc%9a/
CATEGORIES:錬成会/錬成塾
END:VEVENT
BEGIN:VEVENT
DTSTART;TZID=Asia/Tokyo:20250613T120000
DTEND;TZID=Asia/Tokyo:20250613T150000
DTSTAMP:20260422T085357
CREATED:20250411T220125Z
LAST-MODIFIED:20250411T222038Z
UID:1322-1749816000-1749826800@nishiyamatakeo.com
SUMMARY:錬成会
DESCRIPTION:
URL:https://nishiyamatakeo.com/event/%e9%8c%ac%e6%88%90%e4%bc%9a-39/
CATEGORIES:錬成会/錬成塾
END:VEVENT
BEGIN:VEVENT
DTSTART;TZID=Asia/Tokyo:20250608T130000
DTEND;TZID=Asia/Tokyo:20250608T160000
DTSTAMP:20260422T085357
CREATED:20250411T215222Z
LAST-MODIFIED:20250411T221951Z
UID:1304-1749387600-1749398400@nishiyamatakeo.com
SUMMARY:錬成塾
DESCRIPTION:筑紫野農業者トレーニングセンター
URL:https://nishiyamatakeo.com/event/%e9%8c%ac%e6%88%90%e5%a1%be-18/
CATEGORIES:錬成会/錬成塾
END:VEVENT
BEGIN:VEVENT
DTSTART;TZID=Asia/Tokyo:20250603T120000
DTEND;TZID=Asia/Tokyo:20250603T150000
DTSTAMP:20260422T085357
CREATED:20250411T220041Z
LAST-MODIFIED:20250411T221212Z
UID:1320-1748952000-1748962800@nishiyamatakeo.com
SUMMARY:錬成会
DESCRIPTION:
URL:https://nishiyamatakeo.com/event/%e9%8c%ac%e6%88%90%e4%bc%9a-38/
CATEGORIES:錬成会/錬成塾
END:VEVENT
BEGIN:VEVENT
DTSTART;TZID=Asia/Tokyo:20250529T080000
DTEND;TZID=Asia/Tokyo:20250601T170000
DTSTAMP:20260422T085357
CREATED:20250220T235656Z
LAST-MODIFIED:20250220T235842Z
UID:1279-1748505600-1748797200@nishiyamatakeo.com
SUMMARY:西山丈夫塾＠合同合宿
DESCRIPTION:ボストン・スウェーデン合氣道
URL:https://nishiyamatakeo.com/event/%e8%a5%bf%e5%b1%b1%e4%b8%88%e5%a4%ab%e5%a1%be%ef%bc%a0%e5%90%88%e5%90%8c%e5%90%88%e5%ae%bf/
CATEGORIES:丈夫塾,錬成会/錬成塾
END:VEVENT
BEGIN:VEVENT
DTSTART;TZID=Asia/Tokyo:20250423T080000
DTEND;TZID=Asia/Tokyo:20250526T170000
DTSTAMP:20260422T085357
CREATED:20250220T235500Z
LAST-MODIFIED:20250330T222337Z
UID:1276-1745395200-1748278800@nishiyamatakeo.com
SUMMARY:西山丈夫塾＠Morocco
DESCRIPTION:
URL:https://nishiyamatakeo.com/event/%e8%a5%bf%e5%b1%b1%e4%b8%88%e5%a4%ab%e5%a1%be%ef%bc%a0morocco/
CATEGORIES:丈夫塾,錬成会/錬成塾
END:VEVENT
BEGIN:VEVENT
DTSTART;TZID=Asia/Tokyo:20250422T120000
DTEND;TZID=Asia/Tokyo:20250422T150000
DTSTAMP:20260422T085357
CREATED:20241227T085836Z
LAST-MODIFIED:20241227T085837Z
UID:1207-1745323200-1745334000@nishiyamatakeo.com
SUMMARY:錬成会
DESCRIPTION:
URL:https://nishiyamatakeo.com/event/%e9%8c%ac%e6%88%90%e4%bc%9a-37/
CATEGORIES:錬成会/錬成塾
END:VEVENT
BEGIN:VEVENT
DTSTART;TZID=Asia/Tokyo:20250420T150000
DTEND;TZID=Asia/Tokyo:20250420T170000
DTSTAMP:20260422T085357
CREATED:20250220T235012Z
LAST-MODIFIED:20250220T235029Z
UID:1274-1745161200-1745168400@nishiyamatakeo.com
SUMMARY:錬成塾
DESCRIPTION:筑紫野農業者トレーニングセンター
URL:https://nishiyamatakeo.com/event/%e9%8c%ac%e6%88%90%e5%a1%be-17/
CATEGORIES:錬成会/錬成塾
END:VEVENT
BEGIN:VEVENT
DTSTART;TZID=Asia/Tokyo:20250415T120000
DTEND;TZID=Asia/Tokyo:20250415T150000
DTSTAMP:20260422T085357
CREATED:20241227T085748Z
LAST-MODIFIED:20241227T085749Z
UID:1205-1744718400-1744729200@nishiyamatakeo.com
SUMMARY:錬成会
DESCRIPTION:
URL:https://nishiyamatakeo.com/event/%e9%8c%ac%e6%88%90%e4%bc%9a-36/
CATEGORIES:錬成会/錬成塾
END:VEVENT
BEGIN:VEVENT
DTSTART;TZID=Asia/Tokyo:20250410T120000
DTEND;TZID=Asia/Tokyo:20250410T150000
DTSTAMP:20260422T085357
CREATED:20241227T085656Z
LAST-MODIFIED:20241227T085657Z
UID:1203-1744286400-1744297200@nishiyamatakeo.com
SUMMARY:錬成会
DESCRIPTION:
URL:https://nishiyamatakeo.com/event/%e9%8c%ac%e6%88%90%e4%bc%9a-35/
CATEGORIES:錬成会/錬成塾
END:VEVENT
BEGIN:VEVENT
DTSTART;TZID=Asia/Tokyo:20250406T150000
DTEND;TZID=Asia/Tokyo:20250406T170000
DTSTAMP:20260422T085357
CREATED:20250220T234903Z
LAST-MODIFIED:20250220T234922Z
UID:1272-1743951600-1743958800@nishiyamatakeo.com
SUMMARY:錬成塾
DESCRIPTION:筑紫野農業者トレーニングセンター
URL:https://nishiyamatakeo.com/event/%e9%8c%ac%e6%88%90%e5%a1%be-16/
CATEGORIES:錬成会/錬成塾
END:VEVENT
BEGIN:VEVENT
DTSTART;TZID=Asia/Tokyo:20250401T120000
DTEND;TZID=Asia/Tokyo:20250401T150000
DTSTAMP:20260422T085357
CREATED:20241227T085607Z
LAST-MODIFIED:20241227T085607Z
UID:1201-1743508800-1743519600@nishiyamatakeo.com
SUMMARY:錬成会
DESCRIPTION:
URL:https://nishiyamatakeo.com/event/%e9%8c%ac%e6%88%90%e4%bc%9a-34/
CATEGORIES:錬成会/錬成塾
END:VEVENT
BEGIN:VEVENT
DTSTART;TZID=Asia/Tokyo:20250325T120000
DTEND;TZID=Asia/Tokyo:20250325T150000
DTSTAMP:20260422T085357
CREATED:20241227T085450Z
LAST-MODIFIED:20241227T085452Z
UID:1199-1742904000-1742914800@nishiyamatakeo.com
SUMMARY:錬成会
DESCRIPTION:
URL:https://nishiyamatakeo.com/event/%e9%8c%ac%e6%88%90%e4%bc%9a-33/
CATEGORIES:錬成会/錬成塾
END:VEVENT
BEGIN:VEVENT
DTSTART;TZID=Asia/Tokyo:20250323T150000
DTEND;TZID=Asia/Tokyo:20250323T170000
DTSTAMP:20260422T085357
CREATED:20250103T231628Z
LAST-MODIFIED:20250122T013017Z
UID:1233-1742742000-1742749200@nishiyamatakeo.com
SUMMARY:錬成塾
DESCRIPTION:筑紫野農業者トレーニングセンター
URL:https://nishiyamatakeo.com/event/%e9%8c%ac%e6%88%90%e5%a1%be-21/
CATEGORIES:錬成会/錬成塾
END:VEVENT
BEGIN:VEVENT
DTSTART;TZID=Asia/Tokyo:20250318T120000
DTEND;TZID=Asia/Tokyo:20250318T150000
DTSTAMP:20260422T085357
CREATED:20241227T085412Z
LAST-MODIFIED:20241227T085413Z
UID:1197-1742299200-1742310000@nishiyamatakeo.com
SUMMARY:錬成会
DESCRIPTION:
URL:https://nishiyamatakeo.com/event/%e9%8c%ac%e6%88%90%e4%bc%9a-32/
CATEGORIES:錬成会/錬成塾
END:VEVENT
BEGIN:VEVENT
DTSTART;TZID=Asia/Tokyo:20250313T120000
DTEND;TZID=Asia/Tokyo:20250313T150000
DTSTAMP:20260422T085357
CREATED:20241227T085324Z
LAST-MODIFIED:20241227T085325Z
UID:1195-1741867200-1741878000@nishiyamatakeo.com
SUMMARY:錬成会
DESCRIPTION:
URL:https://nishiyamatakeo.com/event/%e9%8c%ac%e6%88%90%e4%bc%9a-31/
CATEGORIES:錬成会/錬成塾
END:VEVENT
BEGIN:VEVENT
DTSTART;TZID=Asia/Tokyo:20250309T120000
DTEND;TZID=Asia/Tokyo:20250309T140000
DTSTAMP:20260422T085357
CREATED:20250122T013545Z
LAST-MODIFIED:20250122T013603Z
UID:1243-1741521600-1741528800@nishiyamatakeo.com
SUMMARY:錬成塾
DESCRIPTION:筑紫野農業者トレーニングセンター
URL:https://nishiyamatakeo.com/event/%e9%8c%ac%e6%88%90%e5%a1%be-15/
CATEGORIES:錬成会/錬成塾
END:VEVENT
BEGIN:VEVENT
DTSTART;TZID=Asia/Tokyo:20250304T120000
DTEND;TZID=Asia/Tokyo:20250304T150000
DTSTAMP:20260422T085357
CREATED:20241227T085243Z
LAST-MODIFIED:20241227T085245Z
UID:1193-1741089600-1741100400@nishiyamatakeo.com
SUMMARY:錬成会
DESCRIPTION:
URL:https://nishiyamatakeo.com/event/%e9%8c%ac%e6%88%90%e4%bc%9a-30/
CATEGORIES:錬成会/錬成塾
END:VEVENT
BEGIN:VEVENT
DTSTART;TZID=Asia/Tokyo:20250225T120000
DTEND;TZID=Asia/Tokyo:20250225T150000
DTSTAMP:20260422T085357
CREATED:20241227T085154Z
LAST-MODIFIED:20241227T085155Z
UID:1191-1740484800-1740495600@nishiyamatakeo.com
SUMMARY:錬成会
DESCRIPTION:
URL:https://nishiyamatakeo.com/event/%e9%8c%ac%e6%88%90%e4%bc%9a-29/
CATEGORIES:錬成会/錬成塾
END:VEVENT
END:VCALENDAR